BEGIN:VCALENDAR
VERSION:2.0
PRODID:-//Two Road Dogs - ECPv6.15.20//NONSGML v1.0//EN
CALSCALE:GREGORIAN
METHOD:PUBLISH
X-ORIGINAL-URL:https://tworoaddogs.com
X-WR-CALDESC:Events for Two Road Dogs
REFRESH-INTERVAL;VALUE=DURATION:PT1H
X-Robots-Tag:noindex
X-PUBLISHED-TTL:PT1H
BEGIN:VTIMEZONE
TZID:America/Chicago
BEGIN:DAYLIGHT
TZOFFSETFROM:-0600
TZOFFSETTO:-0500
TZNAME:CDT
DTSTART:20210314T080000
END:DAYLIGHT
BEGIN:STANDARD
TZOFFSETFROM:-0500
TZOFFSETTO:-0600
TZNAME:CST
DTSTART:20211107T070000
END:STANDARD
BEGIN:DAYLIGHT
TZOFFSETFROM:-0600
TZOFFSETTO:-0500
TZNAME:CDT
DTSTART:20220313T080000
END:DAYLIGHT
BEGIN:STANDARD
TZOFFSETFROM:-0500
TZOFFSETTO:-0600
TZNAME:CST
DTSTART:20221106T070000
END:STANDARD
BEGIN:DAYLIGHT
TZOFFSETFROM:-0600
TZOFFSETTO:-0500
TZNAME:CDT
DTSTART:20230312T080000
END:DAYLIGHT
BEGIN:STANDARD
TZOFFSETFROM:-0500
TZOFFSETTO:-0600
TZNAME:CST
DTSTART:20231105T070000
END:STANDARD
BEGIN:DAYLIGHT
TZOFFSETFROM:-0600
TZOFFSETTO:-0500
TZNAME:CDT
DTSTART:20240310T080000
END:DAYLIGHT
BEGIN:STANDARD
TZOFFSETFROM:-0500
TZOFFSETTO:-0600
TZNAME:CST
DTSTART:20241103T070000
END:STANDARD
END:VTIMEZONE
BEGIN:VEVENT
DTSTART;TZID=America/Chicago:20230910T120000
DTEND;TZID=America/Chicago:20230917T070000
DTSTAMP:20260425T104112
CREATED:20221228T052336Z
LAST-MODIFIED:20221229T191006Z
UID:1798-1694347200-1694934000@tworoaddogs.com
SUMMARY:PRINCESS CRUISES - ALASKAN
DESCRIPTION:Seattle – Ketchikan – Juneau – Skagway – Victoria BC – Seattle
URL:https://tworoaddogs.com/event/alaskan-cruise/
LOCATION:Port of Seattle\, 2711 Alaskan Way\, Seattle\, Washington\, 98121\, United States
CATEGORIES:Cruises
ORGANIZER;CN="Teresa Costa":MAILTO:teresa@lacostavacations.com
END:VEVENT
BEGIN:VEVENT
DTSTART;TZID=America/Chicago:20230706T130000
DTEND;TZID=America/Chicago:20230706T230000
DTSTAMP:20260425T104112
CREATED:20221228T034948Z
LAST-MODIFIED:20221229T191145Z
UID:1775-1688648400-1688684400@tworoaddogs.com
SUMMARY:BRUCE SPRINGSTEEN in Hyde Park London
DESCRIPTION:
URL:https://tworoaddogs.com/event/bruce-springsteen/
LOCATION:BST Hyde Park\, Lancaster Terrace\, London\, W2 2TY\, United Kingdom
CATEGORIES:Concerts,Road Trips
ATTACH;FMTTYPE=image/jpeg:https://tworoaddogs.com/wp-content/uploads/2022/12/bruce-springsteen-bst-hyde-park-2023.jpg
END:VEVENT
BEGIN:VEVENT
DTSTART;TZID=America/Chicago:20230519T080000
DTEND;TZID=America/Chicago:20230519T230000
DTSTAMP:20260425T104112
CREATED:20221228T023544Z
LAST-MODIFIED:20221229T191235Z
UID:1766-1684483200-1684537200@tworoaddogs.com
SUMMARY:GRAND FUNK RAILROAD in Biloxi
DESCRIPTION:
URL:https://tworoaddogs.com/event/grand-funk-railroad/
LOCATION:ALABAMA MUSIC BOX IN MOBILE\, 12 Conception St.\, mobile\, AL\, 36602\, United States
CATEGORIES:Concerts
ATTACH;FMTTYPE=image/jpeg:https://tworoaddogs.com/wp-content/uploads/2022/12/grand-funk-railroad-daniels-kierhard.jpg
END:VEVENT
BEGIN:VEVENT
DTSTART;TZID=America/Chicago:20230414T200000
DTEND;TZID=America/Chicago:20230414T230000
DTSTAMP:20260425T104112
CREATED:20221228T023226Z
LAST-MODIFIED:20221229T191302Z
UID:1764-1681502400-1681513200@tworoaddogs.com
SUMMARY:BILLY STRINGS in Mobile
DESCRIPTION:
URL:https://tworoaddogs.com/event/billy-strings/
LOCATION:Saenger Theatre\, 6 S Joachim St\, Mobile\, Mississippi\, 36602\, United States
CATEGORIES:Concerts
ATTACH;FMTTYPE=image/png:https://tworoaddogs.com/wp-content/uploads/2022/12/Billy-Strings_Mobile-610x377-_FACC9CB6-5056-A36A-0AA720199C00E3DF_fad0de26-5056-a36a-0a4f1dfae47bc041-2.png
END:VEVENT
BEGIN:VEVENT
DTSTART;TZID=America/Chicago:20230312T200000
DTEND;TZID=America/Chicago:20230312T233000
DTSTAMP:20260425T104112
CREATED:20221228T041222Z
LAST-MODIFIED:20221229T191331Z
UID:1783-1678651200-1678663800@tworoaddogs.com
SUMMARY:MOE in Pensacola
DESCRIPTION:
URL:https://tworoaddogs.com/event/moe/
LOCATION:Vinyl Music Hall\, 2 South Palafox\, Pensacola\, Florida\, United States
CATEGORIES:Concerts
ATTACH;FMTTYPE=image/jpeg:https://tworoaddogs.com/wp-content/uploads/2022/12/17932995476566551-s-80-400.jpg
END:VEVENT
BEGIN:VEVENT
DTSTART;TZID=America/Chicago:20230301T190000
DTEND;TZID=America/Chicago:20230301T230000
DTSTAMP:20260425T104112
CREATED:20221228T014439Z
LAST-MODIFIED:20221229T191417Z
UID:1748-1677697200-1677711600@tworoaddogs.com
SUMMARY:BUDDY GUY in Baton Rouge
DESCRIPTION:
URL:https://tworoaddogs.com/event/buddy-guy-live-in-baton-rouge/
LOCATION:Raising Cane’s River Center Performing Arts Theatre\, 396 St Louis St\, Baton Rouge\, Louisiana\, 70802\, United States
CATEGORIES:Concerts
END:VEVENT
BEGIN:VEVENT
DTSTART;TZID=America/Chicago:20230206T110000
DTEND;TZID=America/Chicago:20230212T070000
DTSTAMP:20260425T104112
CREATED:20221228T003009Z
LAST-MODIFIED:20221229T191517Z
UID:1737-1675681200-1676185200@tworoaddogs.com
SUMMARY:JAM CRUISE 19 - Puerto Plata/Grand Turk
DESCRIPTION:MIAMI – PUERTO PLATA\, DOMINICAN REPUBLIC – GRAND TURK \n\n\n\nBAND LINEUP \n\n\n\nUMPHREY’S MCGEE • THE FEARLESS FLYERS • OTEIL & FRIENDS (FT. STEVE KIMOCK\, ERIC KRASNO\, JASON CROSBY\, JENNIFER HARTSWICK\, JOHNNY KIMOCK)\n\n\n\nTHE WORD (FT. JOHN MEDESKI\, ROBERT RANDOLPH\, LUTHER DICKINSON\, CODY DICKINSON\, RAYFIELD “RAYRAY” HOLLOMAN) • GALACTIC (FT. ANJELIKA ‘JELLY’ JOSEPH)GEORGE PORTER JR. & DUMPSTAPHUNK (PERFORM THE METERS) • ANDY FRASCO & THE U.N.\n\n\n\nNEAL FRANCIS • TROUBLE NO MORE (FT. BRANDON “TAZ” NEIDERAUER\, JACK RYAN\, NIKKI GLASPIE\, LAMAR WILLIAMS JR.\, PETER LEVIN\, ROOSEVELT COLLIER)\n\n\n\nTHE BAMBOOS • FRUITION • THE LIL SMOKIES • MIHALI • PHOFFMAN\n\n\n\nTHE NEW DEAL • SUNSQUABI • DOOM FLAMINGO • GEORGE PORTER JR. & RUNNIN’ PARDNERS\n\n\n\nPOLYRHYTHMICS • HONEY ISLAND SWAMP BAND • KARINA RYKMAN • LESPECIALDELVON LAMAR ORGAN TRIO • NEIGHBOR • BUTCHER BROWN • LITTLE STRANGER\n\n\n\nPUNKADELICK • DOGS IN A PILE • PIXIE & THE PARTYGRASS BOYS\n\n\n\nDAVE WATTS SUPER JAM • EVERYONE ORCHESTRA • THE SWEET LILLIES • DJ BROWNIE\n\n\n\nSpecial Guests: \n\n\n\nTHE HORN SELECTION • DAN LEBOWITZ • MIKE DILLONSKERIK • JUDITH HILL • SAMMI GARETT • TYREE WOODS\n\n\n\nMasters Camp At Sea: \n\n\n\nISAIAH SHARKEY •NIKKI GLASPIE • REED MATHIS • PETER LEVIN • VAYLOR TRUCKS • JOHN MEDESKIGEORGE PORTER KR. • ADAM DEITCH • ROBERT RANDOLPH • ROOSEVELT COLLIER
URL:https://tworoaddogs.com/event/jamcruise-2023/
LOCATION:MSC Divina\, Port of Miami\, Miami\, Florida\, 33132\, United States
CATEGORIES:Concerts,Cruises,Festivals
ORGANIZER;CN="Cloud Nine Adventures":MAILTO:info@cloud9reservations.com
END:VEVENT
BEGIN:VEVENT
DTSTART;TZID=America/Chicago:20221231T210000
DTEND;TZID=America/Chicago:20221231T235900
DTSTAMP:20260425T104112
CREATED:20221229T191934Z
LAST-MODIFIED:20221229T195728Z
UID:1949-1672520400-1672531140@tworoaddogs.com
SUMMARY:THIRD EYE BLIND - New Years Eve | Mobile
DESCRIPTION:
URL:https://tworoaddogs.com/event/third-eye-blind-new-years-eve-in-mobile/
LOCATION:Moonpie Over Mobile\, 64 South Water Street\, Mobile\, 36602\, United States
END:VEVENT
END:VCALENDAR